BEGIN:VCALENDAR
VERSION:2.0
PRODID:-//Julie Diversy - ECPv6.13.2.1//NONSGML v1.0//EN
CALSCALE:GREGORIAN
METHOD:PUBLISH
X-WR-CALNAME:Julie Diversy
X-ORIGINAL-URL:https://preprod.juliediversy.com
X-WR-CALDESC:Évènements pour Julie Diversy
REFRESH-INTERVAL;VALUE=DURATION:PT1H
X-Robots-Tag:noindex
X-PUBLISHED-TTL:PT1H
BEGIN:VTIMEZONE
TZID:Europe/Helsinki
BEGIN:DAYLIGHT
TZOFFSETFROM:+0200
TZOFFSETTO:+0300
TZNAME:EEST
DTSTART:20230326T010000
END:DAYLIGHT
BEGIN:STANDARD
TZOFFSETFROM:+0300
TZOFFSETTO:+0200
TZNAME:EET
DTSTART:20231029T010000
END:STANDARD
END:VTIMEZONE
BEGIN:VTIMEZONE
TZID:Europe/Paris
BEGIN:DAYLIGHT
TZOFFSETFROM:+0100
TZOFFSETTO:+0200
TZNAME:CEST
DTSTART:20230326T010000
END:DAYLIGHT
BEGIN:STANDARD
TZOFFSETFROM:+0200
TZOFFSETTO:+0100
TZNAME:CET
DTSTART:20231029T010000
END:STANDARD
END:VTIMEZONE
BEGIN:VEVENT
DTSTART;VALUE=DATE:20230926
DTEND;VALUE=DATE:20231223
DTSTAMP:20260424T011429
CREATED:20230719T140300Z
LAST-MODIFIED:20230928T144155Z
UID:8248-1695686400-1703289599@preprod.juliediversy.com
SUMMARY:Consultation akashique - sur RDV uniquement
DESCRIPTION:Akasha en sanskrit désigne l’éther\, l’essence primordiale\, vibratoire\, à la source de toute création. C’est la matrice qui sous-tend et embrasse l’Univers ; le champ d’énergie où tout se relie et s’imprime : nos actes\, nos émotions\, nos croyances\, nos pensées\, une existence après l’autre… Cette vaste bibliothèque\, cette âme du monde\, est l’espace de conscience auquel se branchent les chamanes\, les mystiques\, les médiums. Cette matrice universelle est partout autour de nous\, accessible à qui sait se caler sur sa fréquence\, au-delà des frontières de nos perceptions ordinaires. \nLes Archives Akashiques constituent donc le savoir passé\, présent et futur de toute chose. Elles contiennent l’enregistrement du voyage de l’Âme depuis sa conception et les possibilités de son déploiement dans le futur. On se réfère aux Archives Akashiques dans pratiquement tous les anciens enseignements spirituels. Elles sont connues dans la Bible comme “Le Livre de Vie”. \nUne consultation consiste à ouvrir vos Archives Akashiques \, avec votre autorisation\, et à transmettre les informations de ce niveau spirituel sacré et profond. Les perceptions\, éclairages et conseils que vous recevrez de cette expérience vous seront utiles pour résoudre les défis de la vie courante. Ils amèneront votre attention et votre énergie au moment présent\, ce qui vous permettra de revenir à l’essentiel. Cette session vous aidera à gagner de la clarté dans votre croissance spirituelle et personnelle pour votre bien le plus élevé. \nConsultante* en lecture akashique depuis près de 14 ans\, je vous invite à venir en faire l’expérience. \nJe consulte par téléphone ou skype ( ou assimilé : zoom\, hangout\, facetime…)\, et en présentiel sur Aix-en-Provence les mardi et mercredi. \nUne consultation dure 1h30 et je vous demande de choisir votre tarif entre 75€ de l’heure et 150€ de l’heure ( nb : pour répondre souvent aux questions à ce sujet 🙂 Il n’y a pas de différence de qualité ni de temps\, juste un souhait de ma part de répondre aux bourses de chacune et chacun. Je vous laisse donc choisir en conscience dans cette fourchette \, en prêtant attention au fait qu’il sera nécessaire d’ajouter une demi-heure au tarif horaire que vous aurez choisi puisque le rdv dure 1h30.) \nIntéressé(e) ? Alors à vos agendas 😉 Pour prendre rdv\, c’est ici : contact \nBesoin de plus d’informations ? \nVous pouvez vous procurer mon livre  » À la découverte des mémoires akashiques » paru aux éditions Eyrolles ou consultez ma page sur les Lectures Akashiques ainsi que les témoignages des clients. \nBelle journée\, \nJulie \n* certifiée par « Journey2theHeart » Don Ernesto Ortiz
URL:https://preprod.juliediversy.com/evenement/lecture-aak2023-rentree/
LOCATION:De chez vous\, France
CATEGORIES:Ateliers Akashiques
ATTACH;FMTTYPE=image/jpeg:https://preprod.juliediversy.com/wp-content/uploads/2017/07/book-748904-scaled.jpg
END:VEVENT
BEGIN:VEVENT
DTSTART;TZID=Europe/Paris:20231125T140000
DTEND;TZID=Europe/Paris:20231125T183000
DTSTAMP:20260424T011429
CREATED:20230926T083023Z
LAST-MODIFIED:20230928T211054Z
UID:8311-1700920800-1700937000@preprod.juliediversy.com
SUMMARY:Conf'échanges à L'Initié - Sortie du nouveau livre !
DESCRIPTION:Chères étincelles\, \nJe suis en Joie de vous retrouver à la Librairie L’Initié à Venelles le samedi 25 novembre\, de 14h à 18h30 pour une conf’échanges sur nos liens avec l’invisible et l’Akasha\, le rôle qu’ils jouent dans nos vies à tous\, et plus particulièrement dans celui qu’ils ont joué dans l’écriture de mes 3 livres : Anouk & les mystères de l’eau paru aux éditions Aluna en 2017\, Le Prince de Feu paru en auto-édition en 2021 et À la découverte des mémoires akashiques paru aux éditions Eyrolles en avril 2022. \nMais cela sera aussi l’occasion de vous présenter mon nouveau livre paru chez Eyrolles le 9 novembre\,  « Mon journal akashique : 14 clés à explorer pour bien recevoir les messages de mes guides. » Un guide pratique qui vous aidera à vous relier à votre intuition et votre guidance personnelle. \nNous serons heureux également avec Pierre Porta\, illustrateur d’Anouk et du Prince de Feu de répondre à vos questions sur l’aventure de ces livres et de vous offrir quelques surprises\, dont un cadeau\, sur tirage au sort\, pour inaugurer la préparation des fêtes de Noël qui approchent 😉 \n14h-15h : conf’échanges \n15h-18h :  dédicaces et temps informel pour répondre à vos questions \n18h : tirage au sort et remise du cadeau. \n📍 Librairie L’Initié \n60 Avenue de la Grande Bégude \nLes terrasses du Cellier\n13770 VENELLES  \nParking en bas des Terrasses – https://librairie-initie.com/ \nLes livres seront en vente à la Librairie. \nUn livre pour Noël\, cela fait toujours plaisir à offrir ! Pensez à vos ami.e.s !  \nA bientôt💫 \nJulie et Pierre \n\nPlus d’infos ?
URL:https://preprod.juliediversy.com/evenement/confechangeslinitievenelles-2023/
LOCATION:Librairie L’Initié Venelles\, France
CATEGORIES:Ateliers Akashiques,Dédicaces
ATTACH;FMTTYPE=image/jpeg:https://preprod.juliediversy.com/wp-content/uploads/2023/09/Couverture-Journal-Aak-fond-orange-canva.jpg
END:VEVENT
END:VCALENDAR