BEGIN:VCALENDAR
VERSION:2.0
PRODID:-//Julie Diversy - ECPv6.13.2.1//NONSGML v1.0//EN
CALSCALE:GREGORIAN
METHOD:PUBLISH
X-WR-CALNAME:Julie Diversy
X-ORIGINAL-URL:https://preprod.juliediversy.com
X-WR-CALDESC:Évènements pour Julie Diversy
REFRESH-INTERVAL;VALUE=DURATION:PT1H
X-Robots-Tag:noindex
X-PUBLISHED-TTL:PT1H
BEGIN:VTIMEZONE
TZID:Europe/Paris
BEGIN:DAYLIGHT
TZOFFSETFROM:+0100
TZOFFSETTO:+0200
TZNAME:CEST
DTSTART:20200329T010000
END:DAYLIGHT
BEGIN:STANDARD
TZOFFSETFROM:+0200
TZOFFSETTO:+0100
TZNAME:CET
DTSTART:20201025T010000
END:STANDARD
END:VTIMEZONE
BEGIN:VEVENT
DTSTART;VALUE=DATE:20201121
DTEND;VALUE=DATE:20201123
DTSTAMP:20260425T165109
CREATED:20200907T183236Z
LAST-MODIFIED:20201105T133431Z
UID:6683-1605916800-1606089599@preprod.juliediversy.com
SUMMARY:Mon rapport à l'Argent - Mon rapport à la Vie  - Module 1 - sur Zoom
DESCRIPTION:Et vous\, quelle est votre relation à l’argent ? Etes-vous gêné(e) ou à l’aise avec l’argent ? Avez-vous peur d’en parler ? Rencontrez-vous des difficultés par exemple pour fixer vos tarifs en tant qu’indépendant ou thérapeute ? Avez-vous peur de manquer d’argent ou de ne pas arriver à en gagner suffisamment ? Vous sentez-vous coupable de puiser dans vos économies ? d’avoir reçu de l’argent en héritage ? \nLa société\, notre éducation et nos pensées nous conditionnent au-delà de ce que nous pouvons même imaginer ; les jugements et les stéréotypes sont « monnaies courantes » et ne sont pas toujours en harmonie avec notre Soi profond. \nCe 1er module de 2 jours a pour objectif de visiter votre mythe personnel par rapport à l’argent. Nous explorerons vos croyances\, les héritages laissés par l’entourage ou les filiations\, la société. Puis\, nous expérimenterons ce que signifie le flux\, l’énergie de l’argent. Je vous donnerai également des clés pour comprendre et dénouer des blocages liés à cette énergie si singulière. \nPour qui ? \nToute personne souhaitant dépasser ses peurs sur le sujet\, y voir clair\, sonder profondément en quoi l’argent est intriqué avec ses amours\, sa famille\, ses amis et plus généralement sa Vie. \nComment ? \n… dans la joie et la bonne humeur\, sur Zoom pour ce 1er module compte tenu des circonstances actuelles.\nSéminaires-ateliers de 6 à 8-10 personnes. \nPlus d’informations  ?  ici   \nHoraires : 13h00 – 19h00 le samedi / 9h00-19h00 le dimanche ( soit 16h en présentiel). \nL’inscription au module 1 engage pour l’ensemble du cycle. Régler en plusieurs fois est possible sur demande. Les dates des modules 2 et 3 seront définies ensemble lors de l’atelier et devraient se dérouler sur Aix-en-Provence si les conditions le permettent. L’ensemble du cycle varie entre 4 et 9 mois selon les groupes.  \n\nJe m’inscris
URL:https://preprod.juliediversy.com/evenement/argent1-zoom-novembre2020/
LOCATION:De chez vous\, France
CATEGORIES:Ateliers Argent
ATTACH;FMTTYPE=image/jpeg:https://preprod.juliediversy.com/wp-content/uploads/2020/09/9432A5B5-40D8-432C-88D4-D198F39ECA4D-e1604583255243.jpeg
END:VEVENT
END:VCALENDAR