BEGIN:VCALENDAR
VERSION:2.0
PRODID:-//Julie Diversy - ECPv6.13.2.1//NONSGML v1.0//EN
CALSCALE:GREGORIAN
METHOD:PUBLISH
X-WR-CALNAME:Julie Diversy
X-ORIGINAL-URL:https://preprod.juliediversy.com
X-WR-CALDESC:Évènements pour Julie Diversy
REFRESH-INTERVAL;VALUE=DURATION:PT1H
X-Robots-Tag:noindex
X-PUBLISHED-TTL:PT1H
BEGIN:VTIMEZONE
TZID:Europe/Paris
BEGIN:DAYLIGHT
TZOFFSETFROM:+0100
TZOFFSETTO:+0200
TZNAME:CEST
DTSTART:20210328T010000
END:DAYLIGHT
BEGIN:STANDARD
TZOFFSETFROM:+0200
TZOFFSETTO:+0100
TZNAME:CET
DTSTART:20211031T010000
END:STANDARD
END:VTIMEZONE
BEGIN:VEVENT
DTSTART;VALUE=DATE:20210704
DTEND;VALUE=DATE:20210705
DTSTAMP:20260425T054923
CREATED:20210216T180514Z
LAST-MODIFIED:20210525T192809Z
UID:6907-1625356800-1625443199@preprod.juliediversy.com
SUMMARY:Atelier Reliance Qui suis-je ?
DESCRIPTION:Venez vous détendre à l’occasion d’un atelier découverte de 3 heures de peinture reliance dans le joli village classé d’Ansouis au sein d’une Galerie d’Art. \nVous découvrirez comment votre personnalité\, vos pensées ou vos émotions peuvent prendre forme sous vos yeux grâce à l’eau salée et les pigments de couleurs. Vous réaliserez votre peinture 🎨  sans nulle autre pareille. \nCette façon de peindre se fera miroir d’aspects de vous-même et vous pourriez être surpris 😉 \nLes modalités pratiques : \n\nAtelier pour 4-6 personnes uniquement. \nTarif  : 40€  (matériel inclus) de 15h00 à 18h00.\nIl n’est pas nécessaire de savoir peindre pour venir… juste avoir envie de tester un procédé unique en s’installant au coeur d’une magnifique galerie d’art.\nInscription directement au 07 64 33 00 81 auprès de la Galerie Éphémère d’Ansouis.\n\nA bientôt\, \n\nJe m’inscris\n\nDécouvrir tous mes livres et ateliers d’écritures
URL:https://preprod.juliediversy.com/evenement/peintureansous6juillet2021/
LOCATION:Atelier Éphémère\, 8 Rue Basse\, Ansouis\, 84240\, France
CATEGORIES:Anouk et les mystères de l'eau,Workshop créatifs
ATTACH;FMTTYPE=image/jpeg:https://preprod.juliediversy.com/wp-content/uploads/2020/10/sandra-seitamaa-7-3cGWyQlV0-unsplash-1-scaled.jpg
END:VEVENT
BEGIN:VEVENT
DTSTART;VALUE=DATE:20210709
DTEND;VALUE=DATE:20210712
DTSTAMP:20260425T054923
CREATED:20210322T163341Z
LAST-MODIFIED:20210322T172701Z
UID:6961-1625788800-1626047999@preprod.juliediversy.com
SUMMARY:Retraite Reliance - Lâcher Prise
DESCRIPTION:Nous vous proposons 3 jours pour décompresser en plein coeur du Luberon et apprendre à recharger vos batteries grâce à la Peinture Reliance. Ce procédé unique alliant l’eau salée et les couleurs vous permettra de lâcher tout en douceur et de revenir sur votre axe\, en ce début d’été. \nPierre Porta et moi-même animerons cette retraite qui aura lieu du 9 au 11 Juillet 2021\, en nature pour les explorations à travers le corps\, la respiration et répondre à vos questionnements intérieurs et au coeur de la Galerie Éphémère pour les sessions de Peinture Reliance. \nLe programme de ces 3 journées ( que l’on ajustera selon les personnes en présence) \nJour 1 \nLa thématique : Là ou va mon attention\, va mon énergie \nMatin \nOuverture du Séminaire \nPrésentation de la Peinture Reliance + session à l’Atelier \nAxe travaillé : Connaissance de soi \nAprès-midi \nExercices en nature : résistance et fluidité : quelles caractéristiques ? \nDiagnostic personnel : où j’en suis ? Là où j’arrive à lâcher\, là où je n’y arrive pas. Quels sont les moteurs de mes actions ? Qu’est-ce qui me fait agir ? \nJour 2  \nLa thématique : La vie est en constante transformation \nMatin \nExercices en nature : respiration et centrage \nL’importance des éléments dans nos vies (l’eau\, l’air\, le feu\, la terre) \nAxe travaillé : Ancrage et création \nAprès-midi \nSessions de Peinture Reliance à l’Atelier \nJour 3  \nLa thématique : Se relier donne plus de force et de sérénité \nMatin \nExercices en nature : méditation en mouvement et reliance aux éléments \nAxe travaillé : Confiance et Foi \nAprès-midi \nSessions de Peinture Reliance à l’Atelier \nClôture du séminaire \nLes modalités pratiques  \n\nAtelier pour 6 personnes uniquement. \nTarif  : 333€  (matériel inclus). Guide de travail offert aux couleurs de la Galerie. Un acompte de 111€ vous sera demandé pour réserver votre place. \nDe 9h00 à 12h00 et de 15h00 à 18h00 . Pause déjeuner libre. Pauses goûter offertes. \nIl n’est pas nécessaire de savoir peindre pour venir. Juste être ouvert à l’expérience et vous laisser guider.\nLes sessions de Peinture auront lieu à la Galerie et les sessions d’exploration dans la nature aux environs d’Ansouis.\nInscription et demande d’informations en cliquant sur le bouton en bas de page ou au 07 64 33 00 81 auprès de la Galerie Éphémère d’Ansouis (classé plus beau village de France).\nSi vous avez besoin d’un hébergement\, des chambres d’hôtes dans le village d’Ansouis ou les environs peuvent vous être conseillées.\n\nPlus d’information sur vos animateurs ?  \nJulie Diversy accompagne les personnes en transition depuis plus de 20 ans. Psychologue\, coach\, consultante en lectures akashiques\, artiste et photographe\, elle propose un travail tout en douceur dans le respect des personnes qu’elle accompagne. \nPierre Porta est illustrateur\, artiste peintre et artisan peintre-décorateur depuis plus de 30 ans. \nEnsemble\, ils ont créé le livre « Anouk et les mystères de l’eau » paru aux éditions Aluna en 2017 et\, ils animent\, depuis 4 ans\, des Ateliers et Retraites Reliance\, un peu partout en France. Ils sont appréciés pour leur bienveillance\, la joie qu’ils apportent et leur créativité qui permet de voir au-delà des limitations pour s’ouvrir avec confiance au champ de tous les possibles. \nChaleureusement\, \n\nJe m’inscris\n\nDécouvrir tous mes livres
URL:https://preprod.juliediversy.com/evenement/peintureansouisjuillet-21/
LOCATION:Atelier Éphémère\, 8 Rue Basse\, Ansouis\, 84240\, France
CATEGORIES:Anouk et les mystères de l'eau,Workshop créatifs
ATTACH;FMTTYPE=image/jpeg:https://preprod.juliediversy.com/wp-content/uploads/2021/03/anna-kolosyuk-D5nh6mCW52c-unsplash-scaled.jpg
END:VEVENT
END:VCALENDAR