BEGIN:VCALENDAR
VERSION:2.0
PRODID:-//Julie Diversy - ECPv6.13.2.1//NONSGML v1.0//EN
CALSCALE:GREGORIAN
METHOD:PUBLISH
X-WR-CALNAME:Julie Diversy
X-ORIGINAL-URL:https://preprod.juliediversy.com
X-WR-CALDESC:Évènements pour Julie Diversy
REFRESH-INTERVAL;VALUE=DURATION:PT1H
X-Robots-Tag:noindex
X-PUBLISHED-TTL:PT1H
BEGIN:VTIMEZONE
TZID:Europe/Helsinki
BEGIN:DAYLIGHT
TZOFFSETFROM:+0200
TZOFFSETTO:+0300
TZNAME:EEST
DTSTART:20250330T010000
END:DAYLIGHT
BEGIN:STANDARD
TZOFFSETFROM:+0300
TZOFFSETTO:+0200
TZNAME:EET
DTSTART:20251026T010000
END:STANDARD
END:VTIMEZONE
BEGIN:VEVENT
DTSTART;VALUE=DATE:20250207
DTEND;VALUE=DATE:20250208
DTSTAMP:20260422T125215
CREATED:20241218T174404Z
LAST-MODIFIED:20241218T175232Z
UID:10765-1738886400-1738972799@preprod.juliediversy.com
SUMMARY:Atelier sur la culpabilité - Paris
DESCRIPTION:Chères étincelles\, qu’est-ce que la culpabilité exactement ? Où se loge-t-elle dans le corps ? \nVenez vivre une journée d’exploration pour comprendre quels en sont les ressorts et faire le lien avec les mécanismes de l’égo afin de savoir comment être vigilant et quoi mettre en place pour dissoudre le poids insidieux qu’elle représente symboliquement « sur vos épaules ». \nL’atelier s’articulera autour d’exercices concrets que vous pourrez refaire chez vous ! et d’art créatif simple et ludique comme supports de votre exploration personnelle. Vous repartirez avec un regain d’énergie\, des éléments pour changer votre regard et avancer le coeur allégé. \n\nOù se déroulera l’atelier ? \nL’atelier se déroulera à Paris 13ème – place d’Italie le vendredi 7 février 2025 de 10h à 17h30-18h. L’adresse vous sera communiquée à l’inscription. \nD’autres modalités  ? \nLe tarif préférentiel est de 90 € la journée. \nEn groupe de 8-10 personnes. \nSi vous êtes intéressé.e.s envoyez moi un mail ici ou via le formulaire de contact \nJulie Diversy accompagne les personnes en transition depuis plus de 25 ans. Psychologue\, coach\, consultante en lectures akashiques\, artiste et professeure de Yin Yoga\, elle propose un travail tout en douceur dans le respect des personnes qu’elle accompagne. Elle a également écrit plusieurs ouvrages dont les 2 derniers parus aux éditions Eyrolles s’intitulent « À la découverte des mémoires akashiques » et « Mon journal akashique : 14 clés à explorer pour bien recevoir les messages de mes guides » . \nNB Si vous souhaitez organiser un atelier en présentiel à Paris\, Lyon ou Aix-en-Provence\, contactez moi !  (une remise sera offerte à l’organisateur du groupe). \nSi vous êtes intéressé.e.s envoyez moi un mail ici ou via le formulaire de contact \nA bientôt !  \nJulie  
URL:https://preprod.juliediversy.com/evenement/culpabiliteparis/
LOCATION:Place d’Italie\, 75013\, France
CATEGORIES:Ateliers Égo,Cercle,Méditation,Workshop créatifs
ATTACH;FMTTYPE=image/jpeg:https://preprod.juliediversy.com/wp-content/uploads/2024/12/ian-keefe-gV7l2YslRS4-unsplash-scaled.jpg
END:VEVENT
END:VCALENDAR